BEGIN:VCALENDAR
VERSION:2.0
PRODID:-//Warkworth Rackets - ECPv6.3.5//NONSGML v1.0//EN
CALSCALE:GREGORIAN
METHOD:PUBLISH
X-WR-CALNAME:Warkworth Rackets
X-ORIGINAL-URL:https://warkworthrackets.co.nz
X-WR-CALDESC:Events for Warkworth Rackets
REFRESH-INTERVAL;VALUE=DURATION:PT1H
X-Robots-Tag:noindex
X-PUBLISHED-TTL:PT1H
BEGIN:VTIMEZONE
TZID:UTC
BEGIN:STANDARD
TZOFFSETFROM:+0000
TZOFFSETTO:+0000
TZNAME:UTC
DTSTART:20240101T000000
END:STANDARD
END:VTIMEZONE
BEGIN:VEVENT
DTSTART;TZID=UTC:20240429T190000
DTEND;TZID=UTC:20240702T210000
DTSTAMP:20260419T150247
CREATED:20240407T043846Z
LAST-MODIFIED:20240407T045350Z
UID:1377-1714417200-1719954000@warkworthrackets.co.nz
SUMMARY:Squash Senior Winter Interclub 1
DESCRIPTION:Open to all Senior graded players. Games are a mix of home and away with dinner after\, in graded teams of 8 with separate men’s and women’s competitions. \nEntries Close Friday 12th April \nCompetition Starts Monday 29th April / Tuesday 30th April \nCompetition Ends Monday 1st July / Tuesday 2nd July (no play Kings Birthday Mon/Tues) \nAll teams participate in the two weeks of playoffs to determine their final placing within their division.
URL:https://warkworthrackets.co.nz/event/squash-senior-winter-interclub-1-9-weeks/
LOCATION:Auckland
ORGANIZER;CN="Bill Boyce":MAILTO:squash@warkworthrackets.co.nz
END:VEVENT
BEGIN:VEVENT
DTSTART;VALUE=DATE:20240607
DTEND;VALUE=DATE:20240610
DTSTAMP:20260419T150247
CREATED:20240407T044402Z
LAST-MODIFIED:20240407T044402Z
UID:1382-1717718400-1717977599@warkworthrackets.co.nz
SUMMARY:Squash Auckland Junior Open
DESCRIPTION:Held at Remuera Rackets from Friday evening to Sunday afternoon. All matches PAR 11\, best of 5. \nEntries Close 1st June. \nContact development@squashauckland.org.nz for information and register in iSquash.
URL:https://warkworthrackets.co.nz/event/squash-auckland-junior-open/
LOCATION:Remuera Rackets\, 17 Dilworth Avenue\, Remuera West\, Auckland\, 1050\, New Zealand
ORGANIZER;CN="Bill Boyce":MAILTO:squash@warkworthrackets.co.nz
END:VEVENT
END:VCALENDAR