BEGIN:VCALENDAR
VERSION:2.0
PRODID:-//Warkworth Rackets - ECPv6.3.5//NONSGML v1.0//EN
CALSCALE:GREGORIAN
METHOD:PUBLISH
X-WR-CALNAME:Warkworth Rackets
X-ORIGINAL-URL:https://warkworthrackets.co.nz
X-WR-CALDESC:Events for Warkworth Rackets
REFRESH-INTERVAL;VALUE=DURATION:PT1H
X-Robots-Tag:noindex
X-PUBLISHED-TTL:PT1H
BEGIN:VTIMEZONE
TZID:UTC
BEGIN:STANDARD
TZOFFSETFROM:+0000
TZOFFSETTO:+0000
TZNAME:UTC
DTSTART:20240101T000000
END:STANDARD
END:VTIMEZONE
BEGIN:VEVENT
DTSTART;TZID=UTC:20241014T190000
DTEND;TZID=UTC:20241203T210000
DTSTAMP:20260420T093000
CREATED:20240407T045528Z
LAST-MODIFIED:20240407T045528Z
UID:1395-1728932400-1733259600@warkworthrackets.co.nz
SUMMARY:Squash Senior Spring Interclub
DESCRIPTION:Open to all Senior graded players. Games are a mix of home and away with dinner after\, in graded teams of 8 with separate men’s and women’s competitions. \nEntries Close Friday 29th September \nCompetition Starts Monday 14th October / Tuesday 15th October \nCompetition Ends Monday 2nd December / Tuesday 3rd December (no play Labour week)​​​​​​​
URL:https://warkworthrackets.co.nz/event/squash-senior-spring-interclub/
LOCATION:Auckland
ORGANIZER;CN="Bill Boyce":MAILTO:squash@warkworthrackets.co.nz
END:VEVENT
BEGIN:VEVENT
DTSTART;TZID=UTC:20241120T190000
DTEND;TZID=UTC:20241211T210000
DTSTAMP:20260420T093000
CREATED:20240407T050047Z
LAST-MODIFIED:20240407T050047Z
UID:1399-1732129200-1733950800@warkworthrackets.co.nz
SUMMARY:Squash Spring C-Grade+ Doubles
DESCRIPTION:Entries Close Friday 8th November\nCompetition Starts Wednesday 20th November\nCompetition Ends Wednesday 11th December \nThe main points to note for Doubles are; \n\n8 team divisions (wherever possible) with all teams within a division playing at the same venue each week (same as Masters Interclub)\nPlayed on singles courts (as insufficient number of doubles courts in Auckland)\n‘Team’ relates to one pairing of players\nTeams play 2 matches per night\nOpen to players graded C2 or higher\nMixed teams and divisions (i.e. pairs can be 2 x men\, 2 x women\, or 1 man\, 1 woman)\nNO grading points will be involved\, although players must be on the grading list to enter.
URL:https://warkworthrackets.co.nz/event/squash-spring-c-grade-doubles/
LOCATION:Auckland
ORGANIZER;CN="Bill Boyce":MAILTO:squash@warkworthrackets.co.nz
END:VEVENT
END:VCALENDAR